BEGIN:VCALENDAR
VERSION:2.0
PRODID:-//NSS CDS - ECPv6.15.20//NONSGML v1.0//EN
CALSCALE:GREGORIAN
METHOD:PUBLISH
X-WR-CALNAME:NSS CDS
X-ORIGINAL-URL:https://nsscds.org
X-WR-CALDESC:Events for NSS CDS
REFRESH-INTERVAL;VALUE=DURATION:PT1H
X-Robots-Tag:noindex
X-PUBLISHED-TTL:PT1H
BEGIN:VTIMEZONE
TZID:America/New_York
BEGIN:DAYLIGHT
TZOFFSETFROM:-0500
TZOFFSETTO:-0400
TZNAME:EDT
DTSTART:20200308T070000
END:DAYLIGHT
BEGIN:STANDARD
TZOFFSETFROM:-0400
TZOFFSETTO:-0500
TZNAME:EST
DTSTART:20201101T060000
END:STANDARD
BEGIN:DAYLIGHT
TZOFFSETFROM:-0500
TZOFFSETTO:-0400
TZNAME:EDT
DTSTART:20210314T070000
END:DAYLIGHT
BEGIN:STANDARD
TZOFFSETFROM:-0400
TZOFFSETTO:-0500
TZNAME:EST
DTSTART:20211107T060000
END:STANDARD
BEGIN:DAYLIGHT
TZOFFSETFROM:-0500
TZOFFSETTO:-0400
TZNAME:EDT
DTSTART:20220313T070000
END:DAYLIGHT
BEGIN:STANDARD
TZOFFSETFROM:-0400
TZOFFSETTO:-0500
TZNAME:EST
DTSTART:20221106T060000
END:STANDARD
BEGIN:DAYLIGHT
TZOFFSETFROM:-0500
TZOFFSETTO:-0400
TZNAME:EDT
DTSTART:20230312T070000
END:DAYLIGHT
BEGIN:STANDARD
TZOFFSETFROM:-0400
TZOFFSETTO:-0500
TZNAME:EST
DTSTART:20231105T060000
END:STANDARD
END:VTIMEZONE
BEGIN:VEVENT
DTSTART;VALUE=DATE:20220213
DTEND;VALUE=DATE:20220214
DTSTAMP:20260421T061450
CREATED:20211214T145547Z
LAST-MODIFIED:20211214T145547Z
UID:19204-1644710400-1644796799@nsscds.org
SUMMARY:Last Day for BOD Nominations
DESCRIPTION:February 13 is the last day for nominations to run for a seat on the BOD
URL:https://nsscds.org/event/last-day-for-bod-nominations/
LOCATION:Election
END:VEVENT
BEGIN:VEVENT
DTSTART;TZID=America/New_York:20220109T190000
DTEND;TZID=America/New_York:20220109T210000
DTSTAMP:20260421T061450
CREATED:20211213T151052Z
LAST-MODIFIED:20211213T184312Z
UID:19176-1641754800-1641762000@nsscds.org
SUMMARY:January BOD Meeting
DESCRIPTION:NSS-CDS is inviting you to a scheduled Zoom meeting. \nSunday January 9\, 2022 at 7PM \nJoin Zoom Meeting\nhttps://us06web.zoom.us/j/87141327483?pwd=N0xjWnhpZ3pEY2RDWkpLM09NSTkyUT09 \nMeeting ID: 871 4132 7483\nPasscode: 547148\nOne tap mobile\n+13017158592\,\,87141327483# US (Washington DC)\n+13126266799\,\,87141327483# US (Chicago) \nDial by your location\n+1 301 715 8592 US (Washington DC)\n+1 312 626 6799 US (Chicago)\n+1 646 558 8656 US (New York)\n+1 253 215 8782 US (Tacoma)\n+1 346 248 7799 US (Houston)\n+1 720 707 2699 US (Denver)\nMeeting ID: 871 4132 7483\nFind your local number: https://us06web.zoom.us/u/kbrFkJ1yta
URL:https://nsscds.org/event/january-bod-meeting/
LOCATION:Zoom
END:VEVENT
BEGIN:VEVENT
DTSTART;TZID=America/New_York:20211107T190000
DTEND;TZID=America/New_York:20211107T210000
DTSTAMP:20260421T061450
CREATED:20210926T190119Z
LAST-MODIFIED:20210926T190119Z
UID:18521-1636311600-1636318800@nsscds.org
SUMMARY:NSS-CDS monthly BOD Meeting will be Sunday November 7\, 2021 at 7PM
DESCRIPTION:NSS-CDS monthly BOD Meeting will be Sunday November 7\, 2021 at 7PM
URL:https://nsscds.org/event/nss-cds-monthly-bod-meeting-will-be-sunday-november-7-2021-at-7pm/
END:VEVENT
BEGIN:VEVENT
DTSTART;TZID=America/New_York:20211010T190000
DTEND;TZID=America/New_York:20211010T210000
DTSTAMP:20260421T061450
CREATED:20210926T185302Z
LAST-MODIFIED:20210926T185302Z
UID:18518-1633892400-1633899600@nsscds.org
SUMMARY:NSS-CDS monthly BOD Meeting will be Sunday\, October 10\, 2021 at 7PM
DESCRIPTION:The NSS-CDS monthly BOD Meeting will be Sunday\, October 10\, 2021 at 7PM. \nLog in information to follow. \nKeep an eye out for a new calendar on the website for advance meeting announcements!
URL:https://nsscds.org/event/nss-cds-monthly-bod-meeting-will-be-sunday-october-10-2021-at-7pm/
END:VEVENT
END:VCALENDAR